BEGIN:VCALENDAR
VERSION:2.0
PRODID:-//wp-events-plugin.com//7.2.3.1//EN
BEGIN:VEVENT
UID:12@nawaro-aquatics.de
DTSTART;TZID=Europe/Berlin;VALUE=DATE:20240112
DTEND;TZID=Europe/Berlin;VALUE=DATE:20240115
DTSTAMP:20231127T132425Z
URL:https://nawaro-aquatics.de/events/24-internationaler-ratisbona-cup-202
 4/
SUMMARY:24. Internationaler Ratisbona–Cup 2024
DESCRIPTION:Meldezeitraum: Freitag\, 1. Dezember 2023 bis Samstag\, 06. Jan
 uar 2024\, 18:00 Uhr\n\n24._Internationaler_RATISBONA-CUP_12.-14.01.2024
CATEGORIES:Wettkampf
LOCATION:das Stadtwerk.Westbad\, Messerschmittstraße 4\, Regensburg\, 9304
 9\, Deutschland
X-APPLE-STRUCTURED-LOCATION;VALUE=URI;X-ADDRESS=Messerschmittstraße 4\, Re
 gensburg\, 93049\, Deutschland;X-APPLE-RADIUS=100;X-TITLE=das Stadtwerk.We
 stbad:geo:0,0
END:VEVENT
BEGIN:VTIMEZONE
TZID:Europe/Berlin
X-LIC-LOCATION:Europe/Berlin
BEGIN:STANDARD
DTSTART:20231029T020000
TZOFFSETFROM:+0200
TZOFFSETTO:+0100
TZNAME:CET
END:STANDARD
END:VTIMEZONE
END:VCALENDAR