BEGIN:VCALENDAR
VERSION:2.0
PRODID:-//wp-events-plugin.com//7.2.3.1//EN
BEGIN:VEVENT
UID:10@nawaro-aquatics.de
DTSTART;TZID=Europe/Berlin;VALUE=DATE:20231202
DTEND;TZID=Europe/Berlin;VALUE=DATE:20231204
DTSTAMP:20231127T133310Z
URL:https://nawaro-aquatics.de/events/27-erlanger-roethelheim-cup/
SUMMARY:27. Erlanger Röthelheim-Cup
DESCRIPTION:\n 	Samstag 2.12.2023\n 	8:30 - 9:30\n 	Einschwimmen\n 	1.Abs
 chnitt\n\n\n 	9:00\n 	Kampfrichterbesprechung\n 	\n\n\n 	9:30 - 12:00\n 
 	1.Abschnitt\n 	WK1 - WK4\n\n\n 	12:00 - 13:00\n 	Einschwimmen\n 	2.Absc
 hnitt\n\n\n 	12:30\n 	Kampfrichterbesprechung\n 	\n\n\n 	13:00\n 	2.Abschn
 itt\n 	WK5 - WK19\n\nSonntag 3.12.\n\n 	8:30 - 9:30\n 	Einschwimmen\n 	3
 .Abschnitt\n\n\n 	9:00\n 	Kampfrichterbesprechung\n 	\n\n\n 	9:30 - ca.1
 2:15\n 	3.Abschnitt\n 	WK20 - WK28\n\n\n 	ca. 12:15 - ca. 13:00\n 	Einsc
 hwimmen möglich\n 	4.Abschnitt\n\n\n 	13:15\n 	Unser Highlight\n 	Verfolg
 ungsrennen - Herren und Damen\n\n\n 	ca. 13:30\n 	4.Abschnitt\n 	WK29 - WK
 34\n\nAusschreibungRoethelheimcup2023
CATEGORIES:Wettkampf
LOCATION:Röthelheimbad\, Hartmannstraße 121\, Erlangen\, 91058\, Deutschl
 and
X-APPLE-STRUCTURED-LOCATION;VALUE=URI;X-ADDRESS=Hartmannstraße 121\, Erlan
 gen\, 91058\, Deutschland;X-APPLE-RADIUS=100;X-TITLE=Röthelheimbad:geo:0,
 0
END:VEVENT
BEGIN:VTIMEZONE
TZID:Europe/Berlin
X-LIC-LOCATION:Europe/Berlin
BEGIN:STANDARD
DTSTART:20231029T020000
TZOFFSETFROM:+0200
TZOFFSETTO:+0100
TZNAME:CET
END:STANDARD
END:VTIMEZONE
END:VCALENDAR