BEGIN:VCALENDAR
VERSION:2.0
PRODID:-//wp-events-plugin.com//7.2.3.1//EN
BEGIN:VEVENT
UID:8@nawaro-aquatics.de
DTSTART;VALUE=DATE:20240106
DTEND;VALUE=DATE:20240107
DTSTAMP:20231117T181006Z
URL:https://nawaro-aquatics.de/events/dreikoenigsschwimmen-landau/
SUMMARY:Dreikönigsschwimmen Landau
DESCRIPTION:Ausschreibung-Dreikoenig-2024
CATEGORIES:Wettkampf
LOCATION:Hallenbad Landau\, Freibadweg 3A\, Landau a.d. Isar\, Deutschland
X-APPLE-STRUCTURED-LOCATION;VALUE=URI;X-ADDRESS=Freibadweg 3A\, Landau a.d.
  Isar\, Deutschland;X-APPLE-RADIUS=100;X-TITLE=Hallenbad Landau:geo:0,0
END:VEVENT
END:VCALENDAR