BEGIN:VCALENDAR
VERSION:2.0
PRODID:-//wp-events-plugin.com//7.2.3.1//EN
BEGIN:VEVENT
UID:15@nawaro-aquatics.de
DTSTART;TZID=Europe/Berlin:20240224T000000
DTEND;TZID=Europe/Berlin:20240224T000000
DTSTAMP:20231127T132658Z
URL:https://nawaro-aquatics.de/events/kreismeisterschaft-ost-in-landau-isa
 r/
SUMMARY:Kreismeisterschaft Ost in Landau / Isar
DESCRIPTION:
CATEGORIES:Wettkampf
LOCATION:Hallenbad Landau\, Freibadweg 3A\, Landau a.d. Isar\, Deutschland
X-APPLE-STRUCTURED-LOCATION;VALUE=URI;X-ADDRESS=Freibadweg 3A\, Landau a.d.
  Isar\, Deutschland;X-APPLE-RADIUS=100;X-TITLE=Hallenbad Landau:geo:0,0
END:VEVENT
BEGIN:VTIMEZONE
TZID:Europe/Berlin
X-LIC-LOCATION:Europe/Berlin
BEGIN:STANDARD
DTSTART:20231029T020000
TZOFFSETFROM:+0200
TZOFFSETTO:+0100
TZNAME:CET
END:STANDARD
END:VTIMEZONE
END:VCALENDAR