BEGIN:VCALENDAR
VERSION:2.0
PRODID:-//wp-events-plugin.com//7.2.3.1//EN
BEGIN:VEVENT
UID:7@nawaro-aquatics.de
DTSTART;VALUE=DATE:20231209
DTEND;VALUE=DATE:20231210
DTSTAMP:20231127T133107Z
URL:https://nawaro-aquatics.de/events/niederbayerische-langstreckenmeister
 schaften/
SUMMARY:Niederbayerische Langstreckenmeisterschaften
DESCRIPTION:Ausschreibung-Ndb.-Langstreckenmeisterschaften-Mainburg-2023\n\
 nWettkampffolge und Pflichtzeiten\nWK WK-Art w/m 04/05 06 07 08 09 10 11 1
 2 13 14\nAbschnitt 1: Beginn: 04.12.2022\, 09:00 Uhr\n1 400 m Lagen W -*-\
 n2 400 m Lagen M -*-\nPause ca. 10 Minuten\n3 800 m Freistil W 14:30 14:30
  14:30 14:30 14:30 14:30 14:30 15:00 15:00 -*-\n4 800 m Freistil M 14:30 1
 4:30 14:30 14:30 14:30 14:30 14:30 15:00 15:00 -*-\nAbschnitt 2: Beginn: c
 a. 45 - 60 Min. nach Ende Abschnitt 1\n5 400 m Freistil W\n6 400 m Freisti
 l M\nPause ca. 10 Minuten\n7 1500 m Freistil W 26:00 26:00 26:00 26:00 26:
 00 26:00 26:00 27:00 27:00 -*-\n8 1500 m Freistil M 26:00 26:00 26:00 26:0
 0 26:00 26:00 26:00 27:00 27:00 -*-
CATEGORIES:Wettkampf
LOCATION:Lehrschwimmhalle Mainburg\, Ebrantshauser Straße 70\, 84048 Mainb
 urg\, Deutschland
X-APPLE-STRUCTURED-LOCATION;VALUE=URI;X-ADDRESS=Ebrantshauser Straße 70\, 
 84048 Mainburg\, Deutschland;X-APPLE-RADIUS=100;X-TITLE=Lehrschwimmhalle M
 ainburg:geo:0,0
END:VEVENT
END:VCALENDAR