BEGIN:VCALENDAR
VERSION:2.0
PRODID:-//wp-events-plugin.com//7.2.3.1//EN
BEGIN:VEVENT
UID:11@nawaro-aquatics.de
DTSTART;TZID=Europe/Berlin;VALUE=DATE:20240102
DTEND;TZID=Europe/Berlin;VALUE=DATE:20240106
DTSTAMP:20231123T162755Z
URL:https://nawaro-aquatics.de/events/trainingslager/
SUMMARY:Trainingslager
DESCRIPTION:Trainingslager in den Weihnachtsferien.\n\nAnmeldung hier: http
 s://nawaro-aquatics.de/trainingslager/
CATEGORIES:Training
END:VEVENT
BEGIN:VTIMEZONE
TZID:Europe/Berlin
X-LIC-LOCATION:Europe/Berlin
BEGIN:STANDARD
DTSTART:20231029T020000
TZOFFSETFROM:+0200
TZOFFSETTO:+0100
TZNAME:CET
END:STANDARD
END:VTIMEZONE
END:VCALENDAR