BEGIN:VCALENDAR
VERSION:2.0
PRODID:-//wp-events-plugin.com//7.2.3.1//EN
BEGIN:VEVENT
UID:13@nawaro-aquatics.de
DTSTART;TZID=Europe/Berlin:20231217T130000
DTEND;TZID=Europe/Berlin:20231217T190000
DTSTAMP:20231123T135128Z
URL:https://nawaro-aquatics.de/events/weihnachtsfeier/
SUMMARY:Weihnachtsfeier
DESCRIPTION:Weihnachtsfeier im Viechtach
CATEGORIES:Veranstaltung
END:VEVENT
BEGIN:VTIMEZONE
TZID:Europe/Berlin
X-LIC-LOCATION:Europe/Berlin
BEGIN:STANDARD
DTSTART:20231029T020000
TZOFFSETFROM:+0200
TZOFFSETTO:+0100
TZNAME:CET
END:STANDARD
END:VTIMEZONE
END:VCALENDAR